BEGIN:VCALENDAR
VERSION:2.0
PRODID:-//River City Cali Dance Studio's - ECPv4.3.4.2//NONSGML v1.0//EN
CALSCALE:GREGORIAN
METHOD:PUBLISH
X-WR-CALNAME:River City Cali Dance Studio's
X-ORIGINAL-URL:http://www.rivercitycalidancestudio.com.au
X-WR-CALDESC:Events for River City Cali Dance Studio's
BEGIN:VEVENT
DTSTART;TZID=UTC+0:20180129T163000
DTEND;TZID=UTC+0:20180129T203000
DTSTAMP:20180226T074928
CREATED:20180128T081621Z
LAST-MODIFIED:20180128T081621Z
UID:321-1517243400-1517257800@www.rivercitycalidancestudio.com.au
SUMMARY:First Solo\, Duo & Graceful classes
DESCRIPTION:
URL:http://www.rivercitycalidancestudio.com.au/event/first-solo-duo-graceful-classes/
END:VEVENT
BEGIN:VEVENT
DTSTART;TZID=UTC+0:20180130T180000
DTEND;TZID=UTC+0:20180130T211500
DTSTAMP:20180226T074928
CREATED:20180128T082728Z
LAST-MODIFIED:20180128T082728Z
UID:325-1517335200-1517346900@www.rivercitycalidancestudio.com.au
SUMMARY:First Seniors Class 2018
DESCRIPTION:
URL:http://www.rivercitycalidancestudio.com.au/event/first-seniors-class-2018/
END:VEVENT
BEGIN:VEVENT
DTSTART;TZID=UTC+0:20180131T061500
DTEND;TZID=UTC+0:20180131T203000
DTSTAMP:20180226T074928
CREATED:20180128T084348Z
LAST-MODIFIED:20180128T084348Z
UID:330-1517379300-1517430600@www.rivercitycalidancestudio.com.au
SUMMARY:First Masters Class 2018
DESCRIPTION:
URL:http://www.rivercitycalidancestudio.com.au/event/first-masters-class-2018/
END:VEVENT
BEGIN:VEVENT
DTSTART;TZID=UTC+0:20180131T173000
DTEND;TZID=UTC+0:20180131T203000
DTSTAMP:20180226T074929
CREATED:20180128T083611Z
LAST-MODIFIED:20180128T084205Z
UID:327-1517419800-1517430600@www.rivercitycalidancestudio.com.au
SUMMARY:First Juniors & Intermediates Class 2018
DESCRIPTION:
URL:http://www.rivercitycalidancestudio.com.au/event/first-juniors-intermediates-class-2018/
END:VEVENT
BEGIN:VEVENT
DTSTART;TZID=UTC+0:20180203T080000
DTEND;TZID=UTC+0:20180203T093000
DTSTAMP:20180226T074929
CREATED:20180128T084713Z
LAST-MODIFIED:20180128T084713Z
UID:336-1517644800-1517650200@www.rivercitycalidancestudio.com.au
SUMMARY:First Tinies Class 2018
DESCRIPTION:
URL:http://www.rivercitycalidancestudio.com.au/event/first-tinies-class-2018/
END:VEVENT
BEGIN:VEVENT
DTSTART;TZID=UTC+0:20180203T093000
DTEND;TZID=UTC+0:20180203T120000
DTSTAMP:20180226T074929
CREATED:20180128T084553Z
LAST-MODIFIED:20180128T084553Z
UID:333-1517650200-1517659200@www.rivercitycalidancestudio.com.au
SUMMARY:First Sub-Juniors Class 2018
DESCRIPTION:
URL:http://www.rivercitycalidancestudio.com.au/event/first-sub-juniors-class-2018/
END:VEVENT
BEGIN:VEVENT
DTSTART;TZID=UTC+0:20180205T160000
DTEND;TZID=UTC+0:20180210T120000
DTSTAMP:20180226T074929
CREATED:20180128T232317Z
LAST-MODIFIED:20180128T232317Z
UID:339-1517846400-1518264000@www.rivercitycalidancestudio.com.au
SUMMARY:Bring a friend week
DESCRIPTION:
URL:http://www.rivercitycalidancestudio.com.au/event/bring-friend-week/
END:VEVENT
BEGIN:VEVENT
DTSTART;TZID=UTC+0:20180217T130000
DTEND;TZID=UTC+0:20180217T170000
DTSTAMP:20180226T074929
CREATED:20180128T232518Z
LAST-MODIFIED:20180128T232518Z
UID:342-1518872400-1518886800@www.rivercitycalidancestudio.com.au
SUMMARY:Coaching Meeting
DESCRIPTION:
URL:http://www.rivercitycalidancestudio.com.au/event/coaching-meeting/
END:VEVENT
BEGIN:VEVENT
DTSTART;TZID=UTC+0:20180224T100000
DTEND;TZID=UTC+0:20180224T120000
DTSTAMP:20180226T074929
CREATED:20180128T232724Z
LAST-MODIFIED:20180128T232724Z
UID:345-1519466400-1519473600@www.rivercitycalidancestudio.com.au
SUMMARY:Fundraising Committee Meeting
DESCRIPTION:
URL:http://www.rivercitycalidancestudio.com.au/event/fundraising-committee-meeting/
END:VEVENT
BEGIN:VEVENT
DTSTART;TZID=UTC+0:20180224T180000
DTEND;TZID=UTC+0:20180224T200000
DTSTAMP:20180226T074929
CREATED:20180128T232903Z
LAST-MODIFIED:20180128T232903Z
UID:348-1519495200-1519502400@www.rivercitycalidancestudio.com.au
SUMMARY:Welcome Disco
DESCRIPTION:
URL:http://www.rivercitycalidancestudio.com.au/event/welcome-disco/
END:VEVENT
BEGIN:VEVENT
DTSTART;TZID=UTC+0:20180301T180000
DTEND;TZID=UTC+0:20180301T200000
DTSTAMP:20180226T074929
CREATED:20180128T233040Z
LAST-MODIFIED:20180128T233040Z
UID:351-1519927200-1519934400@www.rivercitycalidancestudio.com.au
SUMMARY:Directors Meeting
DESCRIPTION:
URL:http://www.rivercitycalidancestudio.com.au/event/directors-meeting/
END:VEVENT
END:VCALENDAR